BEGIN:VCALENDAR
VERSION:2.0
PRODID:-//College of Coastal Georgia - ECPv6.15.20//NONSGML v1.0//EN
CALSCALE:GREGORIAN
METHOD:PUBLISH
X-WR-CALNAME:College of Coastal Georgia
X-ORIGINAL-URL:https://www.ccga.edu
X-WR-CALDESC:Events for College of Coastal Georgia
REFRESH-INTERVAL;VALUE=DURATION:PT1H
X-Robots-Tag:noindex
X-PUBLISHED-TTL:PT1H
BEGIN:VTIMEZONE
TZID:UTC
BEGIN:STANDARD
TZOFFSETFROM:+0000
TZOFFSETTO:+0000
TZNAME:UTC
DTSTART:20220101T000000
END:STANDARD
END:VTIMEZONE
BEGIN:VEVENT
DTSTART;TZID=UTC:20231004T140000
DTEND;TZID=UTC:20231004T160000
DTSTAMP:20260424T232530
CREATED:20230929T003616Z
LAST-MODIFIED:20231004T110654Z
UID:10000601-1696428000-1696435200@www.ccga.edu
SUMMARY:COMPASS Group Advising
DESCRIPTION:Join us for group advising and get your spring schedule ready for registration on October 31.
URL:https://www.ccga.edu/calendar/compass-group-advising-6/
LOCATION:Health Sciences ROOM 103
CATEGORIES:Academics
END:VEVENT
END:VCALENDAR