BEGIN:VCALENDAR
VERSION:2.0
PRODID:-//College of Coastal Georgia - ECPv6.15.20//NONSGML v1.0//EN
CALSCALE:GREGORIAN
METHOD:PUBLISH
X-ORIGINAL-URL:https://www.ccga.edu
X-WR-CALDESC:Events for College of Coastal Georgia
REFRESH-INTERVAL;VALUE=DURATION:PT1H
X-Robots-Tag:noindex
X-PUBLISHED-TTL:PT1H
BEGIN:VTIMEZONE
TZID:US/Eastern
BEGIN:DAYLIGHT
TZOFFSETFROM:-0500
TZOFFSETTO:-0400
TZNAME:EDT
DTSTART:20220313T070000
END:DAYLIGHT
BEGIN:STANDARD
TZOFFSETFROM:-0400
TZOFFSETTO:-0500
TZNAME:EST
DTSTART:20221106T060000
END:STANDARD
BEGIN:DAYLIGHT
TZOFFSETFROM:-0500
TZOFFSETTO:-0400
TZNAME:EDT
DTSTART:20230312T070000
END:DAYLIGHT
BEGIN:STANDARD
TZOFFSETFROM:-0400
TZOFFSETTO:-0500
TZNAME:EST
DTSTART:20231105T060000
END:STANDARD
BEGIN:DAYLIGHT
TZOFFSETFROM:-0500
TZOFFSETTO:-0400
TZNAME:EDT
DTSTART:20240310T070000
END:DAYLIGHT
BEGIN:STANDARD
TZOFFSETFROM:-0400
TZOFFSETTO:-0500
TZNAME:EST
DTSTART:20241103T060000
END:STANDARD
END:VTIMEZONE
BEGIN:VTIMEZONE
TZID:America/Halifax
BEGIN:DAYLIGHT
TZOFFSETFROM:-0400
TZOFFSETTO:-0300
TZNAME:ADT
DTSTART:20210314T060000
END:DAYLIGHT
BEGIN:STANDARD
TZOFFSETFROM:-0300
TZOFFSETTO:-0400
TZNAME:AST
DTSTART:20211107T050000
END:STANDARD
BEGIN:DAYLIGHT
TZOFFSETFROM:-0400
TZOFFSETTO:-0300
TZNAME:ADT
DTSTART:20220313T060000
END:DAYLIGHT
BEGIN:STANDARD
TZOFFSETFROM:-0300
TZOFFSETTO:-0400
TZNAME:AST
DTSTART:20221106T050000
END:STANDARD
BEGIN:DAYLIGHT
TZOFFSETFROM:-0400
TZOFFSETTO:-0300
TZNAME:ADT
DTSTART:20230312T060000
END:DAYLIGHT
BEGIN:STANDARD
TZOFFSETFROM:-0300
TZOFFSETTO:-0400
TZNAME:AST
DTSTART:20231105T050000
END:STANDARD
END:VTIMEZONE
BEGIN:VTIMEZONE
TZID:UTC
BEGIN:STANDARD
TZOFFSETFROM:+0000
TZOFFSETTO:+0000
TZNAME:UTC
DTSTART:20210101T000000
END:STANDARD
END:VTIMEZONE
BEGIN:VEVENT
DTSTART;TZID=US/Eastern:20230501T160000
DTEND;TZID=US/Eastern:20230501T180000
DTSTAMP:20260423T170634
CREATED:20230421T234022Z
LAST-MODIFIED:20230501T214531Z
UID:10000319-1682956800-1682964000@www.ccga.edu
SUMMARY:2000s Late Night Breakfast
DESCRIPTION:2000s Late Night Breakfast \n Learn more at https://ccga.presence.io/event/2000s-late-night-breakfast
URL:https://www.ccga.edu/calendar/2000s-late-night-breakfast/
LOCATION:Campus Center
CATEGORIES:Student Life
END:VEVENT
BEGIN:VEVENT
DTSTART;TZID=US/Eastern:20230420T073000
DTEND;TZID=US/Eastern:20230420T093000
DTSTAMP:20260423T170634
CREATED:20230411T094339Z
LAST-MODIFIED:20230418T222752Z
UID:10000303-1681975800-1681983000@www.ccga.edu
SUMMARY:Third Thursday Job Fair
DESCRIPTION:Looking for a summer job?  Recruiters will be on campus.
URL:https://www.ccga.edu/calendar/third-thursday-job-fair/
LOCATION:Campus Center
CATEGORIES:Campus Events
END:VEVENT
BEGIN:VEVENT
DTSTART;TZID=US/Eastern:20230411T070000
DTEND;TZID=US/Eastern:20230411T090000
DTSTAMP:20260423T170634
CREATED:20230411T094339Z
LAST-MODIFIED:20230411T094339Z
UID:10000302-1681196400-1681203600@www.ccga.edu
SUMMARY:Employer Spotlight - Papa John's Pizza
DESCRIPTION:Need a job? Stop by and talk to recruiters on campus.  Get FREE pizza!
URL:https://www.ccga.edu/calendar/employer-spotlight-papa-johns-pizza/
LOCATION:Campus Center
CATEGORIES:Campus Events
END:VEVENT
BEGIN:VEVENT
DTSTART;TZID=US/Eastern:20230404T070000
DTEND;TZID=US/Eastern:20230404T090000
DTSTAMP:20260423T170634
CREATED:20230329T163628Z
LAST-MODIFIED:20230404T125220Z
UID:10000290-1680591600-1680598800@www.ccga.edu
SUMMARY:What Were You Wearing
DESCRIPTION:Shattering the myth that sexual assault can be attributed to a persons wardrobe choice. April 4th 11am – 1pm; Campus Center Lobby\n Learn more at https://ccga.presence.io/event/what-were-you-wearing
URL:https://www.ccga.edu/calendar/what-were-you-wearing/
LOCATION:Campus Center
CATEGORIES:Student Life
END:VEVENT
BEGIN:VEVENT
DTSTART;TZID=US/Eastern:20230314T080000
DTEND;TZID=US/Eastern:20230314T090000
DTSTAMP:20260423T170634
CREATED:20230310T213107Z
LAST-MODIFIED:20230313T224122Z
UID:10000146-1678780800-1678784400@www.ccga.edu
SUMMARY:Pi Day: Pie a Math Professor
DESCRIPTION:Come join us for Pi Day. Students will be allowed to pie up to 3 math teachers of their choice. Each pie is $1 or 1 canned good. Students can have up to 3 pies. All proceeds will be donated to the campus pantry. \n\n Learn more at https://ccga.presence.io/event/pi-day-pie-a-math-professor
URL:https://www.ccga.edu/calendar/pi-day-pie-a-math-professor/
LOCATION:Campus Center
END:VEVENT
BEGIN:VEVENT
DTSTART;TZID=US/Eastern:20230313T060000
DTEND;TZID=US/Eastern:20230313T130000
DTSTAMP:20260423T170634
CREATED:20230310T213107Z
LAST-MODIFIED:20230312T161341Z
UID:10000142-1678687200-1678712400@www.ccga.edu
SUMMARY:Leprechaun Hunt
DESCRIPTION:Find the leprechauns throughout the building this week for a chance at a daily prize! \n Learn more at https://ccga.presence.io/event/leprechaun-hunt
URL:https://www.ccga.edu/calendar/leprechaun-hunt/
LOCATION:Campus Center
END:VEVENT
BEGIN:VEVENT
DTSTART;TZID=America/Halifax:20221129T110000
DTEND;TZID=America/Halifax:20221129T130000
DTSTAMP:20260423T170634
CREATED:20220924T002926Z
LAST-MODIFIED:20220927T220823Z
UID:10000095-1669719600-1669726800@www.ccga.edu
SUMMARY:Employer Spotlight
DESCRIPTION:Recruiters on campus to discuss opportunities with Boys and Girls Clubs
URL:https://www.ccga.edu/calendar/employer-spotlight/
LOCATION:Campus Center
CATEGORIES:Campus Events
END:VEVENT
BEGIN:VEVENT
DTSTART;TZID=America/Halifax:20221112T113000
DTEND;TZID=America/Halifax:20221112T133000
DTSTAMP:20260423T170634
CREATED:20220924T002921Z
LAST-MODIFIED:20220927T220431Z
UID:10000088-1668252600-1668259800@www.ccga.edu
SUMMARY:3rd Thursday Job Fair
DESCRIPTION:Network with employers from all over Coastal Georgia who will be seeking students to fill Full-time\, Part-Time and Internship positions.
URL:https://www.ccga.edu/calendar/3rd-thursday-job-fair-2/
LOCATION:Campus Center
CATEGORIES:Student Life
END:VEVENT
BEGIN:VEVENT
DTSTART;TZID=America/Halifax:20221109T110000
DTEND;TZID=America/Halifax:20221109T130000
DTSTAMP:20260423T170634
CREATED:20220924T002921Z
LAST-MODIFIED:20220927T220334Z
UID:10000087-1667991600-1667998800@www.ccga.edu
SUMMARY:Employer Spotlight - Boys and Girls Club
DESCRIPTION:Recruiters on campus to discuss opportunities with Boys and Girls Clubs
URL:https://www.ccga.edu/calendar/employer-spotlight-boys-and-girls-club/
LOCATION:Campus Center
CATEGORIES:Student Life
END:VEVENT
BEGIN:VEVENT
DTSTART;TZID=America/Halifax:20221026T100000
DTEND;TZID=America/Halifax:20221026T130000
DTSTAMP:20260423T170634
CREATED:20220924T002914Z
LAST-MODIFIED:20220927T214933Z
UID:10000065-1666778400-1666789200@www.ccga.edu
SUMMARY:Graduate & Professional Schools Expo
DESCRIPTION:
URL:https://www.ccga.edu/calendar/graduate-professional-schools-expo/
LOCATION:Campus Center
CATEGORIES:Campus Events
END:VEVENT
BEGIN:VEVENT
DTSTART;TZID=America/Halifax:20221020T113000
DTEND;TZID=America/Halifax:20221020T133000
DTSTAMP:20260423T170634
CREATED:20220924T002913Z
LAST-MODIFIED:20220927T214425Z
UID:10000066-1666265400-1666272600@www.ccga.edu
SUMMARY:3rd Thursday Job Fair
DESCRIPTION:Network with employers from all over Coastal Georgia who will be seeking students to fill Full-time\, Part-Time and Internship positions.
URL:https://www.ccga.edu/calendar/3rd-thursday-job-fair/
LOCATION:Campus Center
CATEGORIES:Campus Events
END:VEVENT
BEGIN:VEVENT
DTSTART;TZID=America/Halifax:20221003T110000
DTEND;TZID=America/Halifax:20221004T130000
DTSTAMP:20260423T170634
CREATED:20220924T002901Z
LAST-MODIFIED:20220927T205941Z
UID:10000028-1664794800-1664888400@www.ccga.edu
SUMMARY:Employer Spotlight: Boys and Girls
DESCRIPTION:Recruiting students for opportunities at Boys and Girls Clubs
URL:https://www.ccga.edu/calendar/employer-spotlight-boys-and-girls/
LOCATION:Campus Center
CATEGORIES:Campus Events
END:VEVENT
BEGIN:VEVENT
DTSTART;TZID=America/Halifax:20220928T110000
DTEND;TZID=America/Halifax:20220928T130000
DTSTAMP:20260423T170634
CREATED:20220924T002856Z
LAST-MODIFIED:20220927T201514Z
UID:10000014-1664362800-1664370000@www.ccga.edu
SUMMARY:Employer Spotlight - Boys and Girls Clubs
DESCRIPTION:Recruiters on campus to discuss opportunities with Boys and Girls Clubs
URL:https://www.ccga.edu/calendar/employer-spotlight-boys-and-girls-clubs/
LOCATION:Campus Center
CATEGORIES:Campus Events
END:VEVENT
BEGIN:VEVENT
DTSTART;TZID=UTC:20220927T110000
DTEND;TZID=UTC:20220927T130000
DTSTAMP:20260423T170634
CREATED:20220924T002855Z
LAST-MODIFIED:20220924T005228Z
UID:10000009-1664276400-1664283600@www.ccga.edu
SUMMARY:Employer Spotlight - GA Dept of Corrections
DESCRIPTION:Recruiters on campus to discuss opportunities with GA Department of Corrections
URL:https://www.ccga.edu/calendar/employer-spotlight-ga-dept-of-corrections/
LOCATION:Campus Center
CATEGORIES:Campus Events
END:VEVENT
END:VCALENDAR