BEGIN:VCALENDAR
VERSION:2.0
PRODID:-//College of Coastal Georgia - ECPv6.15.20//NONSGML v1.0//EN
CALSCALE:GREGORIAN
METHOD:PUBLISH
X-WR-CALNAME:College of Coastal Georgia
X-ORIGINAL-URL:https://www.ccga.edu
X-WR-CALDESC:Events for College of Coastal Georgia
REFRESH-INTERVAL;VALUE=DURATION:PT1H
X-Robots-Tag:noindex
X-PUBLISHED-TTL:PT1H
BEGIN:VTIMEZONE
TZID:US/Eastern
BEGIN:DAYLIGHT
TZOFFSETFROM:-0500
TZOFFSETTO:-0400
TZNAME:EDT
DTSTART:20220313T070000
END:DAYLIGHT
BEGIN:STANDARD
TZOFFSETFROM:-0400
TZOFFSETTO:-0500
TZNAME:EST
DTSTART:20221106T060000
END:STANDARD
BEGIN:DAYLIGHT
TZOFFSETFROM:-0500
TZOFFSETTO:-0400
TZNAME:EDT
DTSTART:20230312T070000
END:DAYLIGHT
BEGIN:STANDARD
TZOFFSETFROM:-0400
TZOFFSETTO:-0500
TZNAME:EST
DTSTART:20231105T060000
END:STANDARD
BEGIN:DAYLIGHT
TZOFFSETFROM:-0500
TZOFFSETTO:-0400
TZNAME:EDT
DTSTART:20240310T070000
END:DAYLIGHT
BEGIN:STANDARD
TZOFFSETFROM:-0400
TZOFFSETTO:-0500
TZNAME:EST
DTSTART:20241103T060000
END:STANDARD
END:VTIMEZONE
BEGIN:VEVENT
DTSTART;TZID=US/Eastern:20230426T060000
DTEND;TZID=US/Eastern:20230426T083000
DTSTAMP:20260425T114735
CREATED:20230413T044214Z
LAST-MODIFIED:20230426T111140Z
UID:10000307-1682488800-1682497800@www.ccga.edu
SUMMARY:CGANS De-Stress Event
DESCRIPTION:Join us in HS 211 from 10-12:30 for a de-stress event! We will have snacks and relaxation stations!\n Learn more at https://ccga.presence.io/event/cgans-de-stress-event
URL:https://www.ccga.edu/calendar/cgans-de-stress-event/
LOCATION:HS 211
CATEGORIES:Student Life
END:VEVENT
BEGIN:VEVENT
DTSTART;TZID=US/Eastern:20230426T130000
DTEND;TZID=US/Eastern:20230426T150000
DTSTAMP:20260425T114735
CREATED:20230310T213112Z
LAST-MODIFIED:20230426T175348Z
UID:10000181-1682514000-1682521200@www.ccga.edu
SUMMARY:Seaswells Launch Party
DESCRIPTION:Seaswells (the art and literary magazine of the College) is hosting their Launch Party on Wednesday\, April 26\, from 5:00-7:00pm\, in the atrium of the Southeast Georgia Conference Center. The purpose of the event is to celebrate the publication of the annual issue of the magazine. There will be artwork on display and a reading\, as well as refreshments. Dress Code: Cocktail Attire. \n   Learn more at https://ccga.presence.io/event/seaswells-launch-party
URL:https://www.ccga.edu/calendar/seaswells-launch-party/
LOCATION:Conference Center
CATEGORIES:Student Life
END:VEVENT
END:VCALENDAR