BEGIN:VCALENDAR
VERSION:2.0
PRODID:-//College of Coastal Georgia - ECPv6.15.20//NONSGML v1.0//EN
CALSCALE:GREGORIAN
METHOD:PUBLISH
X-WR-CALNAME:College of Coastal Georgia
X-ORIGINAL-URL:https://www.ccga.edu
X-WR-CALDESC:Events for College of Coastal Georgia
REFRESH-INTERVAL;VALUE=DURATION:PT1H
X-Robots-Tag:noindex
X-PUBLISHED-TTL:PT1H
BEGIN:VTIMEZONE
TZID:US/Eastern
BEGIN:DAYLIGHT
TZOFFSETFROM:-0500
TZOFFSETTO:-0400
TZNAME:EDT
DTSTART:20220313T070000
END:DAYLIGHT
BEGIN:STANDARD
TZOFFSETFROM:-0400
TZOFFSETTO:-0500
TZNAME:EST
DTSTART:20221106T060000
END:STANDARD
BEGIN:DAYLIGHT
TZOFFSETFROM:-0500
TZOFFSETTO:-0400
TZNAME:EDT
DTSTART:20230312T070000
END:DAYLIGHT
BEGIN:STANDARD
TZOFFSETFROM:-0400
TZOFFSETTO:-0500
TZNAME:EST
DTSTART:20231105T060000
END:STANDARD
BEGIN:DAYLIGHT
TZOFFSETFROM:-0500
TZOFFSETTO:-0400
TZNAME:EDT
DTSTART:20240310T070000
END:DAYLIGHT
BEGIN:STANDARD
TZOFFSETFROM:-0400
TZOFFSETTO:-0500
TZNAME:EST
DTSTART:20241103T060000
END:STANDARD
END:VTIMEZONE
BEGIN:VEVENT
DTSTART;TZID=US/Eastern:20230425T074500
DTEND;TZID=US/Eastern:20230425T084500
DTSTAMP:20260423T054733
CREATED:20230405T190513Z
LAST-MODIFIED:20230425T115739Z
UID:10000298-1682408700-1682412300@www.ccga.edu
SUMMARY:ICU Lunch and Learn
DESCRIPTION:Come and join us for Lunch and Learn! ICU Nurse Practior will be taking about all things ICU. Come and see us on 4/25 at 11:45!\n Learn more at https://ccga.presence.io/event/icu-lunch-and-learn
URL:https://www.ccga.edu/calendar/icu-lunch-and-learn/
LOCATION:HS 102
CATEGORIES:Student Life
END:VEVENT
BEGIN:VEVENT
DTSTART;TZID=US/Eastern:20230425T093000
DTEND;TZID=US/Eastern:20230425T113000
DTSTAMP:20260423T054733
CREATED:20230419T170915Z
LAST-MODIFIED:20230425T152456Z
UID:10000309-1682415000-1682422200@www.ccga.edu
SUMMARY:Signing of the Sails - COMPASS
DESCRIPTION:Attention all Graduates!! \nDon’t Miss Out on a College of Coastal Georgia Tradition.\nJoin us on April 25th from 1:30PM – 3:30PM in the Library or April 26th from 11:30AM – 1:30PM in the Bookstore for our Signing of the Sails Event\n Learn more at https://ccga.presence.io/event/signing-of-the-sails-compass
URL:https://www.ccga.edu/calendar/signing-of-the-sails-compass/
LOCATION:Gould Library Lobby
CATEGORIES:Student Life
END:VEVENT
END:VCALENDAR