BEGIN:VCALENDAR
VERSION:2.0
PRODID:-//College of Coastal Georgia - ECPv6.15.20//NONSGML v1.0//EN
CALSCALE:GREGORIAN
METHOD:PUBLISH
X-ORIGINAL-URL:https://www.ccga.edu
X-WR-CALDESC:Events for College of Coastal Georgia
REFRESH-INTERVAL;VALUE=DURATION:PT1H
X-Robots-Tag:noindex
X-PUBLISHED-TTL:PT1H
BEGIN:VTIMEZONE
TZID:US/Eastern
BEGIN:DAYLIGHT
TZOFFSETFROM:-0500
TZOFFSETTO:-0400
TZNAME:EDT
DTSTART:20220313T070000
END:DAYLIGHT
BEGIN:STANDARD
TZOFFSETFROM:-0400
TZOFFSETTO:-0500
TZNAME:EST
DTSTART:20221106T060000
END:STANDARD
BEGIN:DAYLIGHT
TZOFFSETFROM:-0500
TZOFFSETTO:-0400
TZNAME:EDT
DTSTART:20230312T070000
END:DAYLIGHT
BEGIN:STANDARD
TZOFFSETFROM:-0400
TZOFFSETTO:-0500
TZNAME:EST
DTSTART:20231105T060000
END:STANDARD
BEGIN:DAYLIGHT
TZOFFSETFROM:-0500
TZOFFSETTO:-0400
TZNAME:EDT
DTSTART:20240310T070000
END:DAYLIGHT
BEGIN:STANDARD
TZOFFSETFROM:-0400
TZOFFSETTO:-0500
TZNAME:EST
DTSTART:20241103T060000
END:STANDARD
END:VTIMEZONE
BEGIN:VEVENT
DTSTART;TZID=US/Eastern:20230406T070000
DTEND;TZID=US/Eastern:20230406T130000
DTSTAMP:20260422T114748
CREATED:20230317T151351Z
LAST-MODIFIED:20230406T162245Z
UID:10000269-1680764400-1680786000@www.ccga.edu
SUMMARY:Bunny Grab and Go
DESCRIPTION:Join the Office of Student Life for a Bunny Grab and Go bag!\n Learn more at https://ccga.presence.io/event/bunny-grab-and-go
URL:https://www.ccga.edu/calendar/bunny-grab-and-go/
LOCATION:Office of Student Life
CATEGORIES:Student Life
END:VEVENT
BEGIN:VEVENT
DTSTART;TZID=US/Eastern:20230406T130000
DTEND;TZID=US/Eastern:20230406T150000
DTSTAMP:20260422T114748
CREATED:20230317T151351Z
LAST-MODIFIED:20230406T182341Z
UID:10000270-1680786000-1680793200@www.ccga.edu
SUMMARY:Hammock Hangout with Sailing Club
DESCRIPTION:Join us for a night of games\, snacks and hanging out in our hammocks! On Thursday April 6th from 5-7pm\, meet us out at the lakeside pavilion with your hammock and picnic blanket. Extra hammocks and picnic blankets are available for use.    Learn more at https://ccga.presence.io/event/hammock-hangout-with-sailing-club
URL:https://www.ccga.edu/calendar/hammock-hangout-with-sailing-club/
LOCATION:Lakeside Pavilion
CATEGORIES:Student Life
END:VEVENT
END:VCALENDAR