BEGIN:VCALENDAR
VERSION:2.0
PRODID:-//College of Coastal Georgia - ECPv6.15.20//NONSGML v1.0//EN
CALSCALE:GREGORIAN
METHOD:PUBLISH
X-WR-CALNAME:College of Coastal Georgia
X-ORIGINAL-URL:https://www.ccga.edu
X-WR-CALDESC:Events for College of Coastal Georgia
REFRESH-INTERVAL;VALUE=DURATION:PT1H
X-Robots-Tag:noindex
X-PUBLISHED-TTL:PT1H
BEGIN:VTIMEZONE
TZID:US/Eastern
BEGIN:DAYLIGHT
TZOFFSETFROM:-0500
TZOFFSETTO:-0400
TZNAME:EDT
DTSTART:20220313T070000
END:DAYLIGHT
BEGIN:STANDARD
TZOFFSETFROM:-0400
TZOFFSETTO:-0500
TZNAME:EST
DTSTART:20221106T060000
END:STANDARD
BEGIN:DAYLIGHT
TZOFFSETFROM:-0500
TZOFFSETTO:-0400
TZNAME:EDT
DTSTART:20230312T070000
END:DAYLIGHT
BEGIN:STANDARD
TZOFFSETFROM:-0400
TZOFFSETTO:-0500
TZNAME:EST
DTSTART:20231105T060000
END:STANDARD
BEGIN:DAYLIGHT
TZOFFSETFROM:-0500
TZOFFSETTO:-0400
TZNAME:EDT
DTSTART:20240310T070000
END:DAYLIGHT
BEGIN:STANDARD
TZOFFSETFROM:-0400
TZOFFSETTO:-0500
TZNAME:EST
DTSTART:20241103T060000
END:STANDARD
END:VTIMEZONE
BEGIN:VEVENT
DTSTART;TZID=US/Eastern:20230329T090000
DTEND;TZID=US/Eastern:20230329T100000
DTSTAMP:20260421T223700
CREATED:20230322T180714Z
LAST-MODIFIED:20230329T121840Z
UID:10000280-1680080400-1680084000@www.ccga.edu
SUMMARY:COAST Hammock Give-Away
DESCRIPTION:Join us in the campus center lobby to enter your name in a raffle to win a free hammock!! \n Learn more at https://ccga.presence.io/event/coast-hammock-give-away
URL:https://www.ccga.edu/calendar/coast-hammock-give-away/
LOCATION:Campus Center Lobby
CATEGORIES:Student Life
END:VEVENT
BEGIN:VEVENT
DTSTART;TZID=US/Eastern:20230329T113000
DTEND;TZID=US/Eastern:20230329T123000
DTSTAMP:20260421T223700
CREATED:20230320T214723Z
LAST-MODIFIED:20230329T152147Z
UID:10000273-1680089400-1680093000@www.ccga.edu
SUMMARY:Sail Cyber Club Meeting
DESCRIPTION:Sail Cyber’s biweekly club meeting to discuss upcoming competitons and various cyber activies. Please bring laptop!\n Learn more at https://ccga.presence.io/event/sail-cyber-club-meeting
URL:https://www.ccga.edu/calendar/sail-cyber-club-meeting/
LOCATION:Correll 114
CATEGORIES:Student Life
END:VEVENT
END:VCALENDAR