BEGIN:VCALENDAR
VERSION:2.0
PRODID:-//College of Coastal Georgia - ECPv6.15.20//NONSGML v1.0//EN
CALSCALE:GREGORIAN
METHOD:PUBLISH
X-WR-CALNAME:College of Coastal Georgia
X-ORIGINAL-URL:https://www.ccga.edu
X-WR-CALDESC:Events for College of Coastal Georgia
REFRESH-INTERVAL;VALUE=DURATION:PT1H
X-Robots-Tag:noindex
X-PUBLISHED-TTL:PT1H
BEGIN:VTIMEZONE
TZID:America/Halifax
BEGIN:DAYLIGHT
TZOFFSETFROM:-0400
TZOFFSETTO:-0300
TZNAME:ADT
DTSTART:20210314T060000
END:DAYLIGHT
BEGIN:STANDARD
TZOFFSETFROM:-0300
TZOFFSETTO:-0400
TZNAME:AST
DTSTART:20211107T050000
END:STANDARD
BEGIN:DAYLIGHT
TZOFFSETFROM:-0400
TZOFFSETTO:-0300
TZNAME:ADT
DTSTART:20220313T060000
END:DAYLIGHT
BEGIN:STANDARD
TZOFFSETFROM:-0300
TZOFFSETTO:-0400
TZNAME:AST
DTSTART:20221106T050000
END:STANDARD
BEGIN:DAYLIGHT
TZOFFSETFROM:-0400
TZOFFSETTO:-0300
TZNAME:ADT
DTSTART:20230312T060000
END:DAYLIGHT
BEGIN:STANDARD
TZOFFSETFROM:-0300
TZOFFSETTO:-0400
TZNAME:AST
DTSTART:20231105T050000
END:STANDARD
END:VTIMEZONE
BEGIN:VEVENT
DTSTART;TZID=America/Halifax:20221012T110000
DTEND;TZID=America/Halifax:20221012T130000
DTSTAMP:20260422T173043
CREATED:20220924T002908Z
LAST-MODIFIED:20220927T213146Z
UID:10000047-1665572400-1665579600@www.ccga.edu
SUMMARY:Lets Talk Coastal: Lantinx in US
DESCRIPTION:https://ccga.presence.io/event/lets-talk-coastal-lantinx-in-us
URL:https://www.ccga.edu/calendar/lets-talk-coastal-lantinx-in-us/
CATEGORIES:Student Life
END:VEVENT
BEGIN:VEVENT
DTSTART;TZID=America/Halifax:20221012T121500
DTEND;TZID=America/Halifax:20221012T130000
DTSTAMP:20260422T173043
CREATED:20220924T002906Z
LAST-MODIFIED:20220927T211230Z
UID:10000043-1665576900-1665579600@www.ccga.edu
SUMMARY:CGANS Lunch & Learn
DESCRIPTION:Join us Wednesday 10/12 in HS 112 for a lunch and learn! Guest Speaker: Katie Hillman\, SGHS OB Educator. Pizza provided! \nLearn more at https://ccga.presence.io/event/cgans-lunch-learn-2
URL:https://www.ccga.edu/calendar/cgans-lunch-learn-2/
LOCATION:HS 112
CATEGORIES:Student Life
END:VEVENT
BEGIN:VEVENT
DTSTART;TZID=America/Halifax:20221012T173000
DTEND;TZID=America/Halifax:20221012T190000
DTSTAMP:20260422T173043
CREATED:20220924T002906Z
LAST-MODIFIED:20220927T213100Z
UID:10000045-1665595800-1665601200@www.ccga.edu
SUMMARY:Karaoke/Open Mic Night
DESCRIPTION:https://ccga.presence.io/event/karaoke-open-mic-night
URL:https://www.ccga.edu/calendar/karaoke-open-mic-night/
LOCATION:Stembler Theater
CATEGORIES:Student Life
END:VEVENT
BEGIN:VEVENT
DTSTART;TZID=America/Halifax:20221012T180000
DTEND;TZID=America/Halifax:20221012T200000
DTSTAMP:20260422T173043
CREATED:20220924T002909Z
LAST-MODIFIED:20220927T213230Z
UID:10000050-1665597600-1665604800@www.ccga.edu
SUMMARY:Picture Party
DESCRIPTION:Join the Office of Student Life for a fun filled night of taking pictures with friends! \nLearn more at https://ccga.presence.io/event/picture-party
URL:https://www.ccga.edu/calendar/picture-party/
LOCATION:Campus Center Lobby/Campus lounge
CATEGORIES:Student Life
END:VEVENT
END:VCALENDAR