BEGIN:VCALENDAR
VERSION:2.0
PRODID:-//College of Coastal Georgia - ECPv6.15.20//NONSGML v1.0//EN
CALSCALE:GREGORIAN
METHOD:PUBLISH
X-ORIGINAL-URL:https://www.ccga.edu
X-WR-CALDESC:Events for College of Coastal Georgia
REFRESH-INTERVAL;VALUE=DURATION:PT1H
X-Robots-Tag:noindex
X-PUBLISHED-TTL:PT1H
BEGIN:VTIMEZONE
TZID:UTC
BEGIN:STANDARD
TZOFFSETFROM:+0000
TZOFFSETTO:+0000
TZNAME:UTC
DTSTART:20220101T000000
END:STANDARD
END:VTIMEZONE
BEGIN:VEVENT
DTSTART;TZID=UTC:20231107T120000
DTEND;TZID=UTC:20231107T130000
DTSTAMP:20260423T042243
CREATED:20230711T215137Z
LAST-MODIFIED:20231107T115156Z
UID:10000454-1699358400-1699362000@www.ccga.edu
SUMMARY:Free Lunch Tuesdays
DESCRIPTION:Join BCM every Tuesday at the Lakeside Pavilion for some fun\, fellowship and free food! We can&rsquo;t wait to see you there!   Learn more at http://ccga.presence.io/event/free-lunch-tuesdays-12
URL:https://www.ccga.edu/calendar/free-lunch-tuesdays-12/
LOCATION:Lakeside Pavilion
CATEGORIES:Student Life
END:VEVENT
BEGIN:VEVENT
DTSTART;TZID=UTC:20231114T120000
DTEND;TZID=UTC:20231114T130000
DTSTAMP:20260423T042243
CREATED:20230711T215137Z
LAST-MODIFIED:20231114T125802Z
UID:10000455-1699963200-1699966800@www.ccga.edu
SUMMARY:Free Lunch Tuesdays
DESCRIPTION:Join BCM every Tuesday at the Lakeside Pavilion for some fun\, fellowship and free food! We can&rsquo;t wait to see you there!   Learn more at http://ccga.presence.io/event/free-lunch-tuesdays-13
URL:https://www.ccga.edu/calendar/free-lunch-tuesdays-13/
LOCATION:Lakeside Pavilion
CATEGORIES:Student Life
END:VEVENT
BEGIN:VEVENT
DTSTART;TZID=UTC:20231128T120000
DTEND;TZID=UTC:20231128T130000
DTSTAMP:20260423T042243
CREATED:20230711T215137Z
LAST-MODIFIED:20231128T102612Z
UID:10000456-1701172800-1701176400@www.ccga.edu
SUMMARY:Free Lunch Tuesdays
DESCRIPTION:Join BCM every Tuesday at the Lakeside Pavilion for some fun\, fellowship and free food! We can&rsquo;t wait to see you there!   Learn more at http://ccga.presence.io/event/free-lunch-tuesdays-14
URL:https://www.ccga.edu/calendar/free-lunch-tuesdays-14/
LOCATION:Lakeside Pavilion
CATEGORIES:Student Life
END:VEVENT
END:VCALENDAR