BEGIN:VCALENDAR
VERSION:2.0
PRODID:-//College of Coastal Georgia - ECPv6.15.20//NONSGML v1.0//EN
CALSCALE:GREGORIAN
METHOD:PUBLISH
X-WR-CALNAME:College of Coastal Georgia
X-ORIGINAL-URL:https://www.ccga.edu
X-WR-CALDESC:Events for College of Coastal Georgia
REFRESH-INTERVAL;VALUE=DURATION:PT1H
X-Robots-Tag:noindex
X-PUBLISHED-TTL:PT1H
BEGIN:VTIMEZONE
TZID:UTC
BEGIN:STANDARD
TZOFFSETFROM:+0000
TZOFFSETTO:+0000
TZNAME:UTC
DTSTART:20220101T000000
END:STANDARD
END:VTIMEZONE
BEGIN:VEVENT
DTSTART;VALUE=DATE:20231115
DTEND;VALUE=DATE:20231116
DTSTAMP:20260423T172934
CREATED:20231102T000629Z
LAST-MODIFIED:20231114T125749Z
UID:10000747-1700006400-1700092799@www.ccga.edu
SUMMARY:Content Creation for Entrepreneurs
DESCRIPTION:You can RSVP\, but it is not required. Click the link below. \nhttps://www.eventbrite.com/o/lucas-center-for-entrepreneurship-43868302513
URL:https://www.ccga.edu/calendar/content-creation-for-entrepreneurs/
CATEGORIES:Lucas Center
END:VEVENT
BEGIN:VEVENT
DTSTART;VALUE=DATE:20231115
DTEND;VALUE=DATE:20231116
DTSTAMP:20260423T172934
CREATED:20231102T000629Z
LAST-MODIFIED:20231114T125752Z
UID:10000748-1700006400-1700092799@www.ccga.edu
SUMMARY:Tech Talk with Doc for Entrepreneurs
DESCRIPTION:You can RSVP\, but it is not required. Click the link below. \nhttps://www.eventbrite.com/o/lucas-center-for-entrepreneurship-43868302513
URL:https://www.ccga.edu/calendar/tech-talk-with-doc-for-entrepreneurs/
CATEGORIES:Lucas Center
END:VEVENT
BEGIN:VEVENT
DTSTART;VALUE=DATE:20231115
DTEND;VALUE=DATE:20231116
DTSTAMP:20260423T172934
CREATED:20231102T000629Z
LAST-MODIFIED:20231114T125755Z
UID:10000749-1700006400-1700092799@www.ccga.edu
SUMMARY:Stress Management for Entrepreneurs (Virtual)
DESCRIPTION:
URL:https://www.ccga.edu/calendar/stress-management-for-entrepreneurs-virtual/
CATEGORIES:Lucas Center
END:VEVENT
END:VCALENDAR