BEGIN:VCALENDAR
VERSION:2.0
PRODID:-//College of Coastal Georgia - ECPv6.15.20//NONSGML v1.0//EN
CALSCALE:GREGORIAN
METHOD:PUBLISH
X-WR-CALNAME:College of Coastal Georgia
X-ORIGINAL-URL:https://www.ccga.edu
X-WR-CALDESC:Events for College of Coastal Georgia
REFRESH-INTERVAL;VALUE=DURATION:PT1H
X-Robots-Tag:noindex
X-PUBLISHED-TTL:PT1H
BEGIN:VTIMEZONE
TZID:UTC
BEGIN:STANDARD
TZOFFSETFROM:+0000
TZOFFSETTO:+0000
TZNAME:UTC
DTSTART:20240101T000000
END:STANDARD
END:VTIMEZONE
BEGIN:VEVENT
DTSTART;VALUE=DATE:20250423
DTEND;VALUE=DATE:20250424
DTSTAMP:20260422T191016
CREATED:20240918T101904Z
LAST-MODIFIED:20250422T231156Z
UID:10001056-1745366400-1745452799@www.ccga.edu
SUMMARY:College of Coastal Georgia Women's Tennis vs The Sun Conference Tournament
DESCRIPTION:College of Coastal Georgia Women’s Tennis vs The Sun Conference Tou
URL:https://www.ccga.edu/calendar/college-of-coastal-georgia-womens-tennis-vs-the-sun-conference-tournament/
CATEGORIES:Athletics
END:VEVENT
BEGIN:VEVENT
DTSTART;TZID=UTC:20250423T143000
DTEND;TZID=UTC:20250423T170000
DTSTAMP:20260422T191016
CREATED:20240918T101900Z
LAST-MODIFIED:20250423T161003Z
UID:10001055-1745418600-1745427600@www.ccga.edu
SUMMARY:College of Coastal Georgia Men's Tennis vs #5 Seed Ave Maria
DESCRIPTION:College of Coastal Georgia Men’s Tennis vs #5 Seed Av
URL:https://www.ccga.edu/calendar/college-of-coastal-georgia-mens-tennis-vs-the-sun-conference-tournament/
CATEGORIES:Athletics
END:VEVENT
END:VCALENDAR