BEGIN:VCALENDAR
VERSION:2.0
PRODID:-//College of Coastal Georgia - ECPv6.15.20//NONSGML v1.0//EN
CALSCALE:GREGORIAN
METHOD:PUBLISH
X-WR-CALNAME:College of Coastal Georgia
X-ORIGINAL-URL:https://www.ccga.edu
X-WR-CALDESC:Events for College of Coastal Georgia
REFRESH-INTERVAL;VALUE=DURATION:PT1H
X-Robots-Tag:noindex
X-PUBLISHED-TTL:PT1H
BEGIN:VTIMEZONE
TZID:UTC
BEGIN:STANDARD
TZOFFSETFROM:+0000
TZOFFSETTO:+0000
TZNAME:UTC
DTSTART:20240101T000000
END:STANDARD
END:VTIMEZONE
BEGIN:VEVENT
DTSTART;TZID=UTC:20250418T120000
DTEND;TZID=UTC:20250418T140000
DTSTAMP:20260422T154813
CREATED:20250208T125033Z
LAST-MODIFIED:20250418T134317Z
UID:10001153-1744977600-1744984800@www.ccga.edu
SUMMARY:College of Coastal Georgia Softball at New College of Florida
DESCRIPTION:College of Coastal Georgia Softball at New College of
URL:https://www.ccga.edu/calendar/college-of-coastal-georgia-softball-at-new-college-of-florida/
CATEGORIES:Athletics
END:VEVENT
BEGIN:VEVENT
DTSTART;TZID=UTC:20250418T140000
DTEND;TZID=UTC:20250418T160000
DTSTAMP:20260422T154813
CREATED:20250208T184255Z
LAST-MODIFIED:20250418T161802Z
UID:10001154-1744984800-1744992000@www.ccga.edu
SUMMARY:College of Coastal Georgia Softball at New College of Florida
DESCRIPTION:College of Coastal Georgia Softball at New College of
URL:https://www.ccga.edu/calendar/college-of-coastal-georgia-softball-at-new-college-of-florida-2/
CATEGORIES:Athletics
END:VEVENT
END:VCALENDAR