BEGIN:VCALENDAR
VERSION:2.0
PRODID:-//College of Coastal Georgia - ECPv6.15.20//NONSGML v1.0//EN
CALSCALE:GREGORIAN
METHOD:PUBLISH
X-WR-CALNAME:College of Coastal Georgia
X-ORIGINAL-URL:https://www.ccga.edu
X-WR-CALDESC:Events for College of Coastal Georgia
REFRESH-INTERVAL;VALUE=DURATION:PT1H
X-Robots-Tag:noindex
X-PUBLISHED-TTL:PT1H
BEGIN:VTIMEZONE
TZID:UTC
BEGIN:STANDARD
TZOFFSETFROM:+0000
TZOFFSETTO:+0000
TZNAME:UTC
DTSTART:20240101T000000
END:STANDARD
END:VTIMEZONE
BEGIN:VEVENT
DTSTART;VALUE=DATE:20250217
DTEND;VALUE=DATE:20250218
DTSTAMP:20260422T172748
CREATED:20241029T030007Z
LAST-MODIFIED:20250216T205134Z
UID:10001107-1739750400-1739836799@www.ccga.edu
SUMMARY:College of Coastal Georgia Men's Golf vs Kinderlou Forest Spring Invitational - Kinderlou Forest Golf Club
DESCRIPTION:College of Coastal Georgia Men’s Golf vs Kinderlou Forest Spring Invitational – Kinderlou Forest Go
URL:https://www.ccga.edu/calendar/college-of-coastal-georgia-mens-golf-vs-kinderlou-forest-spring-invitational-kinderlou-forest-golf-club/
CATEGORIES:Athletics
END:VEVENT
END:VCALENDAR