BEGIN:VCALENDAR
VERSION:2.0
PRODID:-//College of Coastal Georgia - ECPv6.15.20//NONSGML v1.0//EN
CALSCALE:GREGORIAN
METHOD:PUBLISH
X-ORIGINAL-URL:https://www.ccga.edu
X-WR-CALDESC:Events for College of Coastal Georgia
REFRESH-INTERVAL;VALUE=DURATION:PT1H
X-Robots-Tag:noindex
X-PUBLISHED-TTL:PT1H
BEGIN:VTIMEZONE
TZID:UTC
BEGIN:STANDARD
TZOFFSETFROM:+0000
TZOFFSETTO:+0000
TZNAME:UTC
DTSTART:20240101T000000
END:STANDARD
END:VTIMEZONE
BEGIN:VEVENT
DTSTART;TZID=UTC:20250111T140000
DTEND;TZID=UTC:20250111T160000
DTSTAMP:20260421T153652
CREATED:20240807T160611Z
LAST-MODIFIED:20250111T155815Z
UID:10000978-1736604000-1736611200@www.ccga.edu
SUMMARY:College of Coastal Georgia Women's Basketball at Florida Memorial
DESCRIPTION:College of Coastal Georgia Women’s Basketball at Florida M
URL:https://www.ccga.edu/calendar/college-of-coastal-georgia-womens-basketball-at-florida-memorial/
CATEGORIES:Athletics
END:VEVENT
BEGIN:VEVENT
DTSTART;TZID=UTC:20250111T160000
DTEND;TZID=UTC:20250111T180000
DTSTAMP:20260421T153652
CREATED:20240807T160608Z
LAST-MODIFIED:20250111T180558Z
UID:10000977-1736611200-1736618400@www.ccga.edu
SUMMARY:College of Coastal Georgia Men's Basketball at Florida Memorial
DESCRIPTION:College of Coastal Georgia Men’s Basketball at Florida M
URL:https://www.ccga.edu/calendar/college-of-coastal-georgia-mens-basketball-at-florida-memorial/
CATEGORIES:Athletics
END:VEVENT
END:VCALENDAR