BEGIN:VCALENDAR
VERSION:2.0
PRODID:-//College of Coastal Georgia - ECPv6.15.20//NONSGML v1.0//EN
CALSCALE:GREGORIAN
METHOD:PUBLISH
X-ORIGINAL-URL:https://www.ccga.edu
X-WR-CALDESC:Events for College of Coastal Georgia
REFRESH-INTERVAL;VALUE=DURATION:PT1H
X-Robots-Tag:noindex
X-PUBLISHED-TTL:PT1H
BEGIN:VTIMEZONE
TZID:UTC
BEGIN:STANDARD
TZOFFSETFROM:+0000
TZOFFSETTO:+0000
TZNAME:UTC
DTSTART:20230101T000000
END:STANDARD
END:VTIMEZONE
BEGIN:VEVENT
DTSTART;VALUE=DATE:20240916
DTEND;VALUE=DATE:20240917
DTSTAMP:20260425T104649
CREATED:20240529T195941Z
LAST-MODIFIED:20240915T234844Z
UID:10000926-1726444800-1726531199@www.ccga.edu
SUMMARY:College of Coastal Georgia Women's Golf vs Seahawk Sailboat Shootout - PGA National Resort
DESCRIPTION:College of Coastal Georgia Women’s Golf vs Seahawk Sailboat Shootout – PGA National
URL:https://www.ccga.edu/calendar/college-of-coastal-georgia-womens-golf-vs-seahawk-sailboat-shootout/
CATEGORIES:Athletics
END:VEVENT
END:VCALENDAR