BEGIN:VCALENDAR
VERSION:2.0
PRODID:-//College of Coastal Georgia - ECPv6.15.20//NONSGML v1.0//EN
CALSCALE:GREGORIAN
METHOD:PUBLISH
X-WR-CALNAME:College of Coastal Georgia
X-ORIGINAL-URL:https://www.ccga.edu
X-WR-CALDESC:Events for College of Coastal Georgia
REFRESH-INTERVAL;VALUE=DURATION:PT1H
X-Robots-Tag:noindex
X-PUBLISHED-TTL:PT1H
BEGIN:VTIMEZONE
TZID:UTC
BEGIN:STANDARD
TZOFFSETFROM:+0000
TZOFFSETTO:+0000
TZNAME:UTC
DTSTART:20230101T000000
END:STANDARD
END:VTIMEZONE
BEGIN:VEVENT
DTSTART;TZID=UTC:20240324T120000
DTEND;TZID=UTC:20240324T140000
DTSTAMP:20260425T115212
CREATED:20240221T191315Z
LAST-MODIFIED:20240324T125509Z
UID:10000893-1711281600-1711288800@www.ccga.edu
SUMMARY:College of Coastal Georgia Softball at Webber International University (Fla.)
DESCRIPTION:College of Coastal Georgia Softball at Webber International University
URL:https://www.ccga.edu/calendar/college-of-coastal-georgia-softball-at-webber-international-university-fla-3/
CATEGORIES:Athletics
END:VEVENT
BEGIN:VEVENT
DTSTART;TZID=UTC:20240324T130000
DTEND;TZID=UTC:20240324T160000
DTSTAMP:20260425T115212
CREATED:20240130T003936Z
LAST-MODIFIED:20240324T152928Z
UID:10000828-1711285200-1711296000@www.ccga.edu
SUMMARY:College of Coastal Georgia Men's Tennis at Ave Maria University
DESCRIPTION:College of Coastal Georgia Men’s Tennis at Ave Maria Uni
URL:https://www.ccga.edu/calendar/college-of-coastal-georgia-mens-tennis-at-ave-maria-university/
CATEGORIES:Athletics
END:VEVENT
BEGIN:VEVENT
DTSTART;TZID=UTC:20240324T130000
DTEND;TZID=UTC:20240324T160000
DTSTAMP:20260425T115212
CREATED:20240130T003943Z
LAST-MODIFIED:20240324T152931Z
UID:10000829-1711285200-1711296000@www.ccga.edu
SUMMARY:College of Coastal Georgia Women's Tennis at Ave Maria University
DESCRIPTION:College of Coastal Georgia Women’s Tennis at Ave Maria Uni
URL:https://www.ccga.edu/calendar/college-of-coastal-georgia-womens-tennis-at-ave-maria-university/
CATEGORIES:Athletics
END:VEVENT
END:VCALENDAR