BEGIN:VCALENDAR
VERSION:2.0
PRODID:-//College of Coastal Georgia - ECPv6.15.20//NONSGML v1.0//EN
CALSCALE:GREGORIAN
METHOD:PUBLISH
X-ORIGINAL-URL:https://www.ccga.edu
X-WR-CALDESC:Events for College of Coastal Georgia
REFRESH-INTERVAL;VALUE=DURATION:PT1H
X-Robots-Tag:noindex
X-PUBLISHED-TTL:PT1H
BEGIN:VTIMEZONE
TZID:America/Halifax
BEGIN:DAYLIGHT
TZOFFSETFROM:-0400
TZOFFSETTO:-0300
TZNAME:ADT
DTSTART:20210314T060000
END:DAYLIGHT
BEGIN:STANDARD
TZOFFSETFROM:-0300
TZOFFSETTO:-0400
TZNAME:AST
DTSTART:20211107T050000
END:STANDARD
BEGIN:DAYLIGHT
TZOFFSETFROM:-0400
TZOFFSETTO:-0300
TZNAME:ADT
DTSTART:20220313T060000
END:DAYLIGHT
BEGIN:STANDARD
TZOFFSETFROM:-0300
TZOFFSETTO:-0400
TZNAME:AST
DTSTART:20221106T050000
END:STANDARD
BEGIN:DAYLIGHT
TZOFFSETFROM:-0400
TZOFFSETTO:-0300
TZNAME:ADT
DTSTART:20230312T060000
END:DAYLIGHT
BEGIN:STANDARD
TZOFFSETFROM:-0300
TZOFFSETTO:-0400
TZNAME:AST
DTSTART:20231105T050000
END:STANDARD
END:VTIMEZONE
BEGIN:VEVENT
DTSTART;VALUE=DATE:20221229
DTEND;VALUE=DATE:20221230
DTSTAMP:20260424T155353
CREATED:20220924T002929Z
LAST-MODIFIED:20220927T221614Z
UID:10000051-1672272000-1672358399@www.ccga.edu
SUMMARY:Women's Basketball  @  Kennesaw State
DESCRIPTION:Women’s Basketball @ Kennesaw State
URL:https://www.ccga.edu/calendar/womens-basketball-kennesaw-state/
LOCATION:Kennesaw\, Ga.
CATEGORIES:Athletics
END:VEVENT
BEGIN:VEVENT
DTSTART;VALUE=DATE:20221229
DTEND;VALUE=DATE:20221230
DTSTAMP:20260424T155353
CREATED:20221005T194605Z
LAST-MODIFIED:20221005T194605Z
UID:10000124-1672272000-1672358399@www.ccga.edu
SUMMARY:Men's Basketball vs. William Carey University
DESCRIPTION:Men’s Basketball vs. William Carey University
URL:https://www.ccga.edu/calendar/mens-basketball-vs-william-carey-university/
LOCATION:West Palm Beach\, Fla.
CATEGORIES:Athletics
END:VEVENT
END:VCALENDAR