BEGIN:VCALENDAR
VERSION:2.0
PRODID:-//College of Coastal Georgia - ECPv6.15.20//NONSGML v1.0//EN
CALSCALE:GREGORIAN
METHOD:PUBLISH
X-ORIGINAL-URL:https://www.ccga.edu
X-WR-CALDESC:Events for College of Coastal Georgia
REFRESH-INTERVAL;VALUE=DURATION:PT1H
X-Robots-Tag:noindex
X-PUBLISHED-TTL:PT1H
BEGIN:VTIMEZONE
TZID:UTC
BEGIN:STANDARD
TZOFFSETFROM:+0000
TZOFFSETTO:+0000
TZNAME:UTC
DTSTART:20240101T000000
END:STANDARD
END:VTIMEZONE
BEGIN:VEVENT
DTSTART;TZID=UTC:20251201T173000
DTEND;TZID=UTC:20251201T193000
DTSTAMP:20260423T083246
CREATED:20250930T232232Z
LAST-MODIFIED:20251201T143854Z
UID:10001238-1764610200-1764617400@www.ccga.edu
SUMMARY:College of Coastal Georgia Women's Basketball vs University of the Virgin Islands
DESCRIPTION:College of Coastal Georgia Women’s Basketball vs University of the Virgin
URL:https://www.ccga.edu/calendar/college-of-coastal-georgia-womens-basketball-vs-university-of-the-virgin-islands/
CATEGORIES:Athletics
END:VEVENT
BEGIN:VEVENT
DTSTART;TZID=UTC:20251203T193000
DTEND;TZID=UTC:20251203T213000
DTSTAMP:20260423T083246
CREATED:20250930T215009Z
LAST-MODIFIED:20251203T204138Z
UID:10001210-1764790200-1764797400@www.ccga.edu
SUMMARY:College of Coastal Georgia Men's Basketball vs Columbia College
DESCRIPTION:College of Coastal Georgia Men’s Basketball vs Columbia C
URL:https://www.ccga.edu/calendar/college-of-coastal-georgia-mens-basketball-vs-columbia-college-s-c/
CATEGORIES:Athletics
END:VEVENT
BEGIN:VEVENT
DTSTART;TZID=UTC:20251204T170000
DTEND;TZID=UTC:20251204T190000
DTSTAMP:20260423T083246
CREATED:20250930T232234Z
LAST-MODIFIED:20251204T173916Z
UID:10001239-1764867600-1764874800@www.ccga.edu
SUMMARY:College of Coastal Georgia Women's Basketball at Brewton-Parker College
DESCRIPTION:College of Coastal Georgia Women’s Basketball at Brewton-Parker
URL:https://www.ccga.edu/calendar/college-of-coastal-georgia-womens-basketball-at-brewton-parker-college/
CATEGORIES:Athletics
END:VEVENT
BEGIN:VEVENT
DTSTART;TZID=UTC:20251211T190000
DTEND;TZID=UTC:20251211T210000
DTSTAMP:20260423T083246
CREATED:20250930T215010Z
LAST-MODIFIED:20251211T193930Z
UID:10001211-1765479600-1765486800@www.ccga.edu
SUMMARY:College of Coastal Georgia Men's Basketball at Georgia Southern University
DESCRIPTION:College of Coastal Georgia Men’s Basketball at Georgia Southern Uni
URL:https://www.ccga.edu/calendar/college-of-coastal-georgia-mens-basketball-at-georgia-southern-university/
CATEGORIES:Athletics
END:VEVENT
BEGIN:VEVENT
DTSTART;TZID=UTC:20251212T110000
DTEND;TZID=UTC:20251212T130000
DTSTAMP:20260423T083246
CREATED:20250930T232236Z
LAST-MODIFIED:20251212T124127Z
UID:10001240-1765537200-1765544400@www.ccga.edu
SUMMARY:College of Coastal Georgia Women's Basketball at Georgia Southern University
DESCRIPTION:College of Coastal Georgia Women’s Basketball at Georgia Southern Uni
URL:https://www.ccga.edu/calendar/college-of-coastal-georgia-womens-basketball-at-georgia-southern-university/
CATEGORIES:Athletics
END:VEVENT
BEGIN:VEVENT
DTSTART;TZID=UTC:20251213T140000
DTEND;TZID=UTC:20251213T160000
DTSTAMP:20260423T083246
CREATED:20250930T215011Z
LAST-MODIFIED:20251213T154823Z
UID:10001212-1765634400-1765641600@www.ccga.edu
SUMMARY:College of Coastal Georgia Men's Basketball at Brewton-Parker College
DESCRIPTION:College of Coastal Georgia Men’s Basketball at Brewton-Parker
URL:https://www.ccga.edu/calendar/college-of-coastal-georgia-mens-basketball-at-brewton-parker-college/
CATEGORIES:Athletics
END:VEVENT
BEGIN:VEVENT
DTSTART;TZID=UTC:20251213T140000
DTEND;TZID=UTC:20251213T160000
DTSTAMP:20260423T083246
CREATED:20250930T232238Z
LAST-MODIFIED:20251213T154824Z
UID:10001241-1765634400-1765641600@www.ccga.edu
SUMMARY:College of Coastal Georgia Women's Basketball vs Truett McConnell University
DESCRIPTION:College of Coastal Georgia Women’s Basketball vs Truett McConnell Uni
URL:https://www.ccga.edu/calendar/college-of-coastal-georgia-womens-basketball-vs-truett-mcconnell-university/
CATEGORIES:Athletics
END:VEVENT
BEGIN:VEVENT
DTSTART;TZID=UTC:20251216T130000
DTEND;TZID=UTC:20251216T150000
DTSTAMP:20260423T083246
CREATED:20250930T232239Z
LAST-MODIFIED:20251216T125734Z
UID:10001242-1765890000-1765897200@www.ccga.edu
SUMMARY:College of Coastal Georgia Women's Basketball at University of North Florida - Exhibition
DESCRIPTION:College of Coastal Georgia Women’s Basketball at University of North Florida – Exh
URL:https://www.ccga.edu/calendar/college-of-coastal-georgia-womens-basketball-at-university-of-north-florida-exhibition/
CATEGORIES:Athletics
END:VEVENT
BEGIN:VEVENT
DTSTART;TZID=UTC:20251216T170000
DTEND;TZID=UTC:20251216T190000
DTSTAMP:20260423T083246
CREATED:20250930T215218Z
LAST-MODIFIED:20251216T174331Z
UID:10001213-1765904400-1765911600@www.ccga.edu
SUMMARY:College of Coastal Georgia Men's Basketball vs Spartanburg Methodist College
DESCRIPTION:College of Coastal Georgia Men’s Basketball vs Spartanburg Methodist
URL:https://www.ccga.edu/calendar/college-of-coastal-georgia-mens-basketball-vs-spartanburg-methodist-college/
CATEGORIES:Athletics
END:VEVENT
BEGIN:VEVENT
DTSTART;TZID=UTC:20251229T140000
DTEND;TZID=UTC:20251229T160000
DTSTAMP:20260423T083246
CREATED:20250930T232241Z
LAST-MODIFIED:20251229T124840Z
UID:10001243-1767016800-1767024000@www.ccga.edu
SUMMARY:College of Coastal Georgia Women's Basketball vs Spring Arbor University (Mich.) - Hosted by University of Rio Grande
DESCRIPTION:College of Coastal Georgia Women’s Basketball vs Spring Arbor University (Mich.) – Hosted by University of Rio
URL:https://www.ccga.edu/calendar/college-of-coastal-georgia-womens-basketball-vs-spring-arbor-university-mich-hosted-by-university-of-rio-grande/
CATEGORIES:Athletics
END:VEVENT
BEGIN:VEVENT
DTSTART;TZID=UTC:20251230T120000
DTEND;TZID=UTC:20251230T140000
DTSTAMP:20260423T083246
CREATED:20250930T232242Z
LAST-MODIFIED:20251230T132817Z
UID:10001244-1767096000-1767103200@www.ccga.edu
SUMMARY:College of Coastal Georgia Women's Basketball vs Cornerstone University (Mich.) - Hosted by University of Rio Grande
DESCRIPTION:College of Coastal Georgia Women’s Basketball vs Cornerstone University (Mich.) – Hosted by University of Rio
URL:https://www.ccga.edu/calendar/college-of-coastal-georgia-womens-basketball-vs-cornerstone-university-mich-hosted-by-university-of-rio-grande/
CATEGORIES:Athletics
END:VEVENT
END:VCALENDAR