BEGIN:VCALENDAR
VERSION:2.0
PRODID:-//College of Coastal Georgia - ECPv6.15.20//NONSGML v1.0//EN
CALSCALE:GREGORIAN
METHOD:PUBLISH
X-ORIGINAL-URL:https://www.ccga.edu
X-WR-CALDESC:Events for College of Coastal Georgia
REFRESH-INTERVAL;VALUE=DURATION:PT1H
X-Robots-Tag:noindex
X-PUBLISHED-TTL:PT1H
BEGIN:VTIMEZONE
TZID:UTC
BEGIN:STANDARD
TZOFFSETFROM:+0000
TZOFFSETTO:+0000
TZNAME:UTC
DTSTART:20240101T000000
END:STANDARD
END:VTIMEZONE
BEGIN:VEVENT
DTSTART;VALUE=DATE:20250702
DTEND;VALUE=DATE:20250703
DTSTAMP:20260424T232741
CREATED:20241105T091638Z
LAST-MODIFIED:20250701T232345Z
UID:10001112-1751414400-1751500799@www.ccga.edu
SUMMARY:Summer 1st Session Classes End (Final Exams given during last class period) and Midterm for Full Session
DESCRIPTION:
URL:https://www.ccga.edu/calendar/summer-1st-session-classes-end-final-exams-given-during-last-class-period-and-midterm-for-full-session/
CATEGORIES:Academics
END:VEVENT
END:VCALENDAR