BEGIN:VCALENDAR
VERSION:2.0
PRODID:-//College of Coastal Georgia - ECPv6.15.20//NONSGML v1.0//EN
CALSCALE:GREGORIAN
METHOD:PUBLISH
X-ORIGINAL-URL:https://www.ccga.edu
X-WR-CALDESC:Events for College of Coastal Georgia
REFRESH-INTERVAL;VALUE=DURATION:PT1H
X-Robots-Tag:noindex
X-PUBLISHED-TTL:PT1H
BEGIN:VTIMEZONE
TZID:UTC
BEGIN:STANDARD
TZOFFSETFROM:+0000
TZOFFSETTO:+0000
TZNAME:UTC
DTSTART:20240101T000000
END:STANDARD
END:VTIMEZONE
BEGIN:VEVENT
DTSTART;VALUE=DATE:20250303
DTEND;VALUE=DATE:20250304
DTSTAMP:20260423T060024
CREATED:20231012T000654Z
LAST-MODIFIED:20250302T061016Z
UID:10000693-1740960000-1741046399@www.ccga.edu
SUMMARY:Full Session Midterm Grades Available
DESCRIPTION:
URL:https://www.ccga.edu/calendar/full-session-midterm-grades-available-2/
CATEGORIES:Academics
END:VEVENT
BEGIN:VEVENT
DTSTART;VALUE=DATE:20250307
DTEND;VALUE=DATE:20250308
DTSTAMP:20260423T060024
CREATED:20231012T000654Z
LAST-MODIFIED:20250306T223623Z
UID:10000694-1741305600-1741391999@www.ccga.edu
SUMMARY:1st Session Classes End (Final Exams given during last class period)
DESCRIPTION:
URL:https://www.ccga.edu/calendar/1st-session-classes-end-final-exams-given-during-last-class-period-2/
CATEGORIES:Academics
END:VEVENT
BEGIN:VEVENT
DTSTART;VALUE=DATE:20250310
DTEND;VALUE=DATE:20250311
DTSTAMP:20260423T060024
CREATED:20231012T000654Z
LAST-MODIFIED:20250309T152124Z
UID:10000695-1741564800-1741651199@www.ccga.edu
SUMMARY:No Classes/Spring Break
DESCRIPTION:
URL:https://www.ccga.edu/calendar/no-classes-spring-break/
CATEGORIES:Academics
END:VEVENT
BEGIN:VEVENT
DTSTART;VALUE=DATE:20250311
DTEND;VALUE=DATE:20250312
DTSTAMP:20260423T060024
CREATED:20231012T000654Z
LAST-MODIFIED:20250310T230529Z
UID:10000696-1741651200-1741737599@www.ccga.edu
SUMMARY:No Classes/Spring Break
DESCRIPTION:
URL:https://www.ccga.edu/calendar/no-classes-spring-break-2/
CATEGORIES:Academics
END:VEVENT
BEGIN:VEVENT
DTSTART;VALUE=DATE:20250312
DTEND;VALUE=DATE:20250313
DTSTAMP:20260423T060024
CREATED:20231012T000655Z
LAST-MODIFIED:20250311T180359Z
UID:10000697-1741737600-1741823999@www.ccga.edu
SUMMARY:No Classes/Spring Break
DESCRIPTION:
URL:https://www.ccga.edu/calendar/no-classes-spring-break-3/
CATEGORIES:Academics
END:VEVENT
BEGIN:VEVENT
DTSTART;VALUE=DATE:20250313
DTEND;VALUE=DATE:20250314
DTSTAMP:20260423T060024
CREATED:20231012T000655Z
LAST-MODIFIED:20250312T222606Z
UID:10000698-1741824000-1741910399@www.ccga.edu
SUMMARY:No Classes/Spring Break
DESCRIPTION:
URL:https://www.ccga.edu/calendar/no-classes-spring-break-4/
CATEGORIES:Academics
END:VEVENT
BEGIN:VEVENT
DTSTART;VALUE=DATE:20250314
DTEND;VALUE=DATE:20250315
DTSTAMP:20260423T060024
CREATED:20231012T000655Z
LAST-MODIFIED:20250314T011935Z
UID:10000699-1741910400-1741996799@www.ccga.edu
SUMMARY:No Classes/Spring Break
DESCRIPTION:
URL:https://www.ccga.edu/calendar/no-classes-spring-break-5/
CATEGORIES:Academics
END:VEVENT
BEGIN:VEVENT
DTSTART;VALUE=DATE:20250317
DTEND;VALUE=DATE:20250318
DTSTAMP:20260423T060024
CREATED:20231012T000655Z
LAST-MODIFIED:20250316T220857Z
UID:10000700-1742169600-1742255999@www.ccga.edu
SUMMARY:Midterm for Full Session
DESCRIPTION:
URL:https://www.ccga.edu/calendar/midterm-for-full-session-2/
CATEGORIES:Academics
END:VEVENT
BEGIN:VEVENT
DTSTART;VALUE=DATE:20250317
DTEND;VALUE=DATE:20250318
DTSTAMP:20260423T060024
CREATED:20231013T000643Z
LAST-MODIFIED:20250316T220858Z
UID:10000731-1742169600-1742255999@www.ccga.edu
SUMMARY:2nd Session Classes Begin
DESCRIPTION:
URL:https://www.ccga.edu/calendar/2nd-session-classes-begin-2/
CATEGORIES:Academics
END:VEVENT
BEGIN:VEVENT
DTSTART;VALUE=DATE:20250317
DTEND;VALUE=DATE:20250318
DTSTAMP:20260423T060024
CREATED:20231030T000722Z
LAST-MODIFIED:20250316T220859Z
UID:10000736-1742169600-1742255999@www.ccga.edu
SUMMARY:Add/Drop for 2nd Session
DESCRIPTION:
URL:https://www.ccga.edu/calendar/add-drop-for-2nd-session-4/
CATEGORIES:Academics
END:VEVENT
BEGIN:VEVENT
DTSTART;VALUE=DATE:20250318
DTEND;VALUE=DATE:20250319
DTSTAMP:20260423T060024
CREATED:20231208T002311Z
LAST-MODIFIED:20250317T225102Z
UID:10000752-1742256000-1742342399@www.ccga.edu
SUMMARY:Add/Drop for 2nd Session
DESCRIPTION:
URL:https://www.ccga.edu/calendar/add-drop-for-2nd-session-5/
CATEGORIES:Academics
END:VEVENT
BEGIN:VEVENT
DTSTART;VALUE=DATE:20250319
DTEND;VALUE=DATE:20250320
DTSTAMP:20260423T060024
CREATED:20240409T005528Z
LAST-MODIFIED:20250318T235102Z
UID:10000914-1742342400-1742428799@www.ccga.edu
SUMMARY:Add/Drop for 2nd Session
DESCRIPTION:
URL:https://www.ccga.edu/calendar/add-drop-for-2nd-session-6/
CATEGORIES:Academics
END:VEVENT
END:VCALENDAR