BEGIN:VCALENDAR
VERSION:2.0
PRODID:-//College of Coastal Georgia - ECPv6.15.20//NONSGML v1.0//EN
CALSCALE:GREGORIAN
METHOD:PUBLISH
X-ORIGINAL-URL:https://www.ccga.edu
X-WR-CALDESC:Events for College of Coastal Georgia
REFRESH-INTERVAL;VALUE=DURATION:PT1H
X-Robots-Tag:noindex
X-PUBLISHED-TTL:PT1H
BEGIN:VTIMEZONE
TZID:UTC
BEGIN:STANDARD
TZOFFSETFROM:+0000
TZOFFSETTO:+0000
TZNAME:UTC
DTSTART:20230101T000000
END:STANDARD
END:VTIMEZONE
BEGIN:VEVENT
DTSTART;VALUE=DATE:20241206
DTEND;VALUE=DATE:20241207
DTSTAMP:20260423T043113
CREATED:20231012T000626Z
LAST-MODIFIED:20241205T192256Z
UID:10000652-1733443200-1733529599@www.ccga.edu
SUMMARY:Last Day of Classes (Full & 2nd Sessions)
DESCRIPTION:
URL:https://www.ccga.edu/calendar/last-day-of-classes-full-2nd-sessions/
CATEGORIES:Academics
END:VEVENT
BEGIN:VEVENT
DTSTART;VALUE=DATE:20241209
DTEND;VALUE=DATE:20241210
DTSTAMP:20260423T043113
CREATED:20231012T000626Z
LAST-MODIFIED:20241208T185444Z
UID:10000653-1733702400-1733788799@www.ccga.edu
SUMMARY:Final Exams (Full & 2nd Sessions)
DESCRIPTION:
URL:https://www.ccga.edu/calendar/final-exams-full-2nd-sessions/
CATEGORIES:Academics
END:VEVENT
BEGIN:VEVENT
DTSTART;VALUE=DATE:20241210
DTEND;VALUE=DATE:20241211
DTSTAMP:20260423T043113
CREATED:20231012T000627Z
LAST-MODIFIED:20241210T032749Z
UID:10000654-1733788800-1733875199@www.ccga.edu
SUMMARY:Final Exams (Full & 2nd Sessions)
DESCRIPTION:
URL:https://www.ccga.edu/calendar/final-exams-full-2nd-sessions-2/
CATEGORIES:Academics
END:VEVENT
BEGIN:VEVENT
DTSTART;TZID=UTC:20241210T170000
DTEND;TZID=UTC:20241210T180000
DTSTAMP:20260423T043113
CREATED:20241203T003517Z
LAST-MODIFIED:20241210T191230Z
UID:10001125-1733850000-1733853600@www.ccga.edu
SUMMARY:Fall 2024 Graduation Rehearsal
DESCRIPTION:
URL:https://www.ccga.edu/calendar/fall-2024-graduation-rehearsal/
LOCATION:Southeast Georgia Conference Center
CATEGORIES:Academics
END:VEVENT
BEGIN:VEVENT
DTSTART;VALUE=DATE:20241211
DTEND;VALUE=DATE:20241212
DTSTAMP:20260423T043113
CREATED:20231012T000627Z
LAST-MODIFIED:20241210T233113Z
UID:10000655-1733875200-1733961599@www.ccga.edu
SUMMARY:Final Exams (Full & 2nd Sessions)
DESCRIPTION:
URL:https://www.ccga.edu/calendar/final-exams-full-2nd-sessions-3/
CATEGORIES:Academics
END:VEVENT
BEGIN:VEVENT
DTSTART;VALUE=DATE:20241212
DTEND;VALUE=DATE:20241213
DTSTAMP:20260423T043113
CREATED:20231012T000627Z
LAST-MODIFIED:20241212T001947Z
UID:10000656-1733961600-1734047999@www.ccga.edu
SUMMARY:Final Exams (Full & 2nd Sessions)
DESCRIPTION:
URL:https://www.ccga.edu/calendar/final-exams-full-2nd-sessions-4/
CATEGORIES:Academics
END:VEVENT
BEGIN:VEVENT
DTSTART;TZID=UTC:20241213T090000
DTEND;TZID=UTC:20241213T173000
DTSTAMP:20260423T043113
CREATED:20241203T003521Z
LAST-MODIFIED:20241213T165325Z
UID:10001126-1734080400-1734111000@www.ccga.edu
SUMMARY:Fall 2024 Commencement
DESCRIPTION:
URL:https://www.ccga.edu/calendar/fall-2024-commencement/
LOCATION:Southeast Georgia Conference Center
CATEGORIES:Academics
END:VEVENT
BEGIN:VEVENT
DTSTART;VALUE=DATE:20241216
DTEND;VALUE=DATE:20241217
DTSTAMP:20260423T043113
CREATED:20231012T000628Z
LAST-MODIFIED:20241215T190408Z
UID:10000657-1734307200-1734393599@www.ccga.edu
SUMMARY:Final Grades Available (by 5 p.m.)
DESCRIPTION:
URL:https://www.ccga.edu/calendar/final-grades-available-by-5-p-m/
CATEGORIES:Academics
END:VEVENT
BEGIN:VEVENT
DTSTART;VALUE=DATE:20241223
DTEND;VALUE=DATE:20241224
DTSTAMP:20260423T043113
CREATED:20231012T000628Z
LAST-MODIFIED:20241222T231344Z
UID:10000658-1734912000-1734998399@www.ccga.edu
SUMMARY:Campus Closed
DESCRIPTION:
URL:https://www.ccga.edu/calendar/campus-closed/
CATEGORIES:Academics
END:VEVENT
BEGIN:VEVENT
DTSTART;VALUE=DATE:20241224
DTEND;VALUE=DATE:20241225
DTSTAMP:20260423T043113
CREATED:20231012T000628Z
LAST-MODIFIED:20241223T165630Z
UID:10000659-1734998400-1735084799@www.ccga.edu
SUMMARY:Campus Closed
DESCRIPTION:
URL:https://www.ccga.edu/calendar/campus-closed-2/
CATEGORIES:Academics
END:VEVENT
BEGIN:VEVENT
DTSTART;VALUE=DATE:20241225
DTEND;VALUE=DATE:20241226
DTSTAMP:20260423T043113
CREATED:20231012T000629Z
LAST-MODIFIED:20241224T232132Z
UID:10000660-1735084800-1735171199@www.ccga.edu
SUMMARY:Campus Closed
DESCRIPTION:
URL:https://www.ccga.edu/calendar/campus-closed-3/
CATEGORIES:Academics
END:VEVENT
BEGIN:VEVENT
DTSTART;VALUE=DATE:20241226
DTEND;VALUE=DATE:20241227
DTSTAMP:20260423T043113
CREATED:20231012T000629Z
LAST-MODIFIED:20241225T223304Z
UID:10000661-1735171200-1735257599@www.ccga.edu
SUMMARY:Campus Closed
DESCRIPTION:
URL:https://www.ccga.edu/calendar/campus-closed-4/
CATEGORIES:Academics
END:VEVENT
BEGIN:VEVENT
DTSTART;VALUE=DATE:20241227
DTEND;VALUE=DATE:20241228
DTSTAMP:20260423T043113
CREATED:20231012T000630Z
LAST-MODIFIED:20241227T001133Z
UID:10000662-1735257600-1735343999@www.ccga.edu
SUMMARY:Campus Closed
DESCRIPTION:
URL:https://www.ccga.edu/calendar/campus-closed-5/
CATEGORIES:Academics
END:VEVENT
BEGIN:VEVENT
DTSTART;VALUE=DATE:20241230
DTEND;VALUE=DATE:20241231
DTSTAMP:20260423T043113
CREATED:20231012T000630Z
LAST-MODIFIED:20241229T202047Z
UID:10000663-1735516800-1735603199@www.ccga.edu
SUMMARY:No Classes
DESCRIPTION:
URL:https://www.ccga.edu/calendar/no-classes-2/
CATEGORIES:Academics
END:VEVENT
BEGIN:VEVENT
DTSTART;VALUE=DATE:20241231
DTEND;VALUE=DATE:20250101
DTSTAMP:20260423T043113
CREATED:20231012T000631Z
LAST-MODIFIED:20241230T141800Z
UID:10000664-1735603200-1735689599@www.ccga.edu
SUMMARY:No Classes
DESCRIPTION:
URL:https://www.ccga.edu/calendar/no-classes-3/
CATEGORIES:Academics
END:VEVENT
END:VCALENDAR