BEGIN:VCALENDAR
VERSION:2.0
PRODID:-//College of Coastal Georgia - ECPv6.15.20//NONSGML v1.0//EN
CALSCALE:GREGORIAN
METHOD:PUBLISH
X-ORIGINAL-URL:https://www.ccga.edu
X-WR-CALDESC:Events for College of Coastal Georgia
REFRESH-INTERVAL;VALUE=DURATION:PT1H
X-Robots-Tag:noindex
X-PUBLISHED-TTL:PT1H
BEGIN:VTIMEZONE
TZID:UTC
BEGIN:STANDARD
TZOFFSETFROM:+0000
TZOFFSETTO:+0000
TZNAME:UTC
DTSTART:20240101T000000
END:STANDARD
END:VTIMEZONE
BEGIN:VEVENT
DTSTART;VALUE=DATE:20250210
DTEND;VALUE=DATE:20250211
DTSTAMP:20260423T103352
CREATED:20231012T000654Z
LAST-MODIFIED:20250209T213913Z
UID:10000692-1739145600-1739231999@www.ccga.edu
SUMMARY:Midterm for 1st Session
DESCRIPTION:
URL:https://www.ccga.edu/calendar/midterm-for-1st-session-2/
CATEGORIES:Academics
END:VEVENT
BEGIN:VEVENT
DTSTART;VALUE=DATE:20250210
DTEND;VALUE=DATE:20250211
DTSTAMP:20260423T103352
CREATED:20241029T025930Z
LAST-MODIFIED:20250209T235124Z
UID:10001106-1739145600-1739231999@www.ccga.edu
SUMMARY:College of Coastal Georgia Men's Golf vs Coastal Georgia Winter Invitational  - Sanctuary Cove
DESCRIPTION:College of Coastal Georgia Men’s Golf vs Coastal Georgia Winter Invitational  – Sanctua
URL:https://www.ccga.edu/calendar/college-of-coastal-georgia-mens-golf-vs-coastal-georgia-winter-invitational-sanctuary-cove/
CATEGORIES:Athletics
END:VEVENT
BEGIN:VEVENT
DTSTART;VALUE=DATE:20250210
DTEND;VALUE=DATE:20250211
DTSTAMP:20260423T103352
CREATED:20241210T191808Z
LAST-MODIFIED:20250209T235123Z
UID:10001132-1739145600-1739231999@www.ccga.edu
SUMMARY:College of Coastal Georgia Women's Golf vs Coastal Georgia Winter Invitational - Jekyll Island Golf Club - Pine Lakes Course
DESCRIPTION:College of Coastal Georgia Women’s Golf vs Coastal Georgia Winter Invitational – Jekyll Island Golf Club – Pine Lakes
URL:https://www.ccga.edu/calendar/college-of-coastal-georgia-womens-golf-vs-coastal-georgia-winter-invitational-jekyll-island-golf-club-pine-lakes-course/
CATEGORIES:Athletics
END:VEVENT
BEGIN:VEVENT
DTSTART;TZID=UTC:20250210T160000
DTEND;TZID=UTC:20250210T180000
DTSTAMP:20260423T103352
CREATED:20240807T160622Z
LAST-MODIFIED:20250210T173259Z
UID:10000982-1739203200-1739210400@www.ccga.edu
SUMMARY:College of Coastal Georgia Women's Basketball vs Keiser
DESCRIPTION:College of Coastal Georgia Women’s Basketball vs
URL:https://www.ccga.edu/calendar/college-of-coastal-georgia-womens-basketball-vs-keiser/
CATEGORIES:Athletics
END:VEVENT
BEGIN:VEVENT
DTSTART;TZID=UTC:20250210T180000
DTEND;TZID=UTC:20250210T200000
DTSTAMP:20260423T103352
CREATED:20240807T160619Z
LAST-MODIFIED:20250210T190647Z
UID:10000981-1739210400-1739217600@www.ccga.edu
SUMMARY:College of Coastal Georgia Men's Basketball vs Keiser
DESCRIPTION:College of Coastal Georgia Men’s Basketball vs
URL:https://www.ccga.edu/calendar/college-of-coastal-georgia-mens-basketball-vs-keiser/
CATEGORIES:Athletics
END:VEVENT
END:VCALENDAR