BEGIN:VCALENDAR
VERSION:2.0
PRODID:-//College of Coastal Georgia - ECPv6.15.20//NONSGML v1.0//EN
CALSCALE:GREGORIAN
METHOD:PUBLISH
X-ORIGINAL-URL:https://www.ccga.edu
X-WR-CALDESC:Events for College of Coastal Georgia
REFRESH-INTERVAL;VALUE=DURATION:PT1H
X-Robots-Tag:noindex
X-PUBLISHED-TTL:PT1H
BEGIN:VTIMEZONE
TZID:UTC
BEGIN:STANDARD
TZOFFSETFROM:+0000
TZOFFSETTO:+0000
TZNAME:UTC
DTSTART:20240101T000000
END:STANDARD
END:VTIMEZONE
BEGIN:VEVENT
DTSTART;TZID=UTC:20250205T173000
DTEND;TZID=UTC:20250205T193000
DTSTAMP:20260419T201042
CREATED:20240807T160647Z
LAST-MODIFIED:20250205T161918Z
UID:10000990-1738776600-1738783800@www.ccga.edu
SUMMARY:College of Coastal Georgia Women's Basketball vs Ave Maria
DESCRIPTION:College of Coastal Georgia Women’s Basketball vs Av
URL:https://www.ccga.edu/calendar/college-of-coastal-georgia-womens-basketball-vs-ave-maria/
CATEGORIES:Athletics
END:VEVENT
BEGIN:VEVENT
DTSTART;TZID=UTC:20250205T193000
DTEND;TZID=UTC:20250205T213000
DTSTAMP:20260419T201042
CREATED:20240807T160644Z
LAST-MODIFIED:20250205T161920Z
UID:10000989-1738783800-1738791000@www.ccga.edu
SUMMARY:College of Coastal Georgia Men's Basketball vs Ave Maria
DESCRIPTION:College of Coastal Georgia Men’s Basketball vs Av
URL:https://www.ccga.edu/calendar/college-of-coastal-georgia-mens-basketball-vs-ave-maria/
CATEGORIES:Athletics
END:VEVENT
END:VCALENDAR