BEGIN:VCALENDAR
VERSION:2.0
PRODID:-//College of Coastal Georgia - ECPv6.15.20//NONSGML v1.0//EN
CALSCALE:GREGORIAN
METHOD:PUBLISH
X-ORIGINAL-URL:https://www.ccga.edu
X-WR-CALDESC:Events for College of Coastal Georgia
REFRESH-INTERVAL;VALUE=DURATION:PT1H
X-Robots-Tag:noindex
X-PUBLISHED-TTL:PT1H
BEGIN:VTIMEZONE
TZID:UTC
BEGIN:STANDARD
TZOFFSETFROM:+0000
TZOFFSETTO:+0000
TZNAME:UTC
DTSTART:20230101T000000
END:STANDARD
END:VTIMEZONE
BEGIN:VEVENT
DTSTART;VALUE=DATE:20240919
DTEND;VALUE=DATE:20240920
DTSTAMP:20260422T195731
CREATED:20240918T100657Z
LAST-MODIFIED:20240918T235117Z
UID:10001031-1726704000-1726790399@www.ccga.edu
SUMMARY:College of Coastal Georgia Women's Tennis vs 2024 ITA Women's Florida Regional Championships
DESCRIPTION:College of Coastal Georgia Women’s Tennis vs 2024 ITA Women’s Florida Regional Champi
URL:https://www.ccga.edu/calendar/college-of-coastal-georgia-womens-tennis-vs-2024-ita-womens-florida-regional-championships/
CATEGORIES:Athletics
END:VEVENT
BEGIN:VEVENT
DTSTART;VALUE=DATE:20240919
DTEND;VALUE=DATE:20240920
DTSTAMP:20260422T195732
CREATED:20240918T100659Z
LAST-MODIFIED:20240918T235122Z
UID:10001032-1726704000-1726790399@www.ccga.edu
SUMMARY:College of Coastal Georgia Men's Tennis vs 2024 ITA Men's Florida Regional Championships
DESCRIPTION:College of Coastal Georgia Men’s Tennis vs 2024 ITA Men’s Florida Regional Champi
URL:https://www.ccga.edu/calendar/college-of-coastal-georgia-mens-tennis-vs-2024-ita-mens-florida-regional-championships/
CATEGORIES:Athletics
END:VEVENT
END:VCALENDAR