BEGIN:VCALENDAR
VERSION:2.0
PRODID:-//College of Coastal Georgia - ECPv6.15.20//NONSGML v1.0//EN
CALSCALE:GREGORIAN
METHOD:PUBLISH
X-WR-CALNAME:College of Coastal Georgia
X-ORIGINAL-URL:https://www.ccga.edu
X-WR-CALDESC:Events for College of Coastal Georgia
REFRESH-INTERVAL;VALUE=DURATION:PT1H
X-Robots-Tag:noindex
X-PUBLISHED-TTL:PT1H
BEGIN:VTIMEZONE
TZID:UTC
BEGIN:STANDARD
TZOFFSETFROM:+0000
TZOFFSETTO:+0000
TZNAME:UTC
DTSTART:20230101T000000
END:STANDARD
END:VTIMEZONE
BEGIN:VEVENT
DTSTART;VALUE=DATE:20240817
DTEND;VALUE=DATE:20240818
DTSTAMP:20260423T182633
CREATED:20231012T000617Z
LAST-MODIFIED:20240821T132235Z
UID:10000613-1723852800-1723939199@www.ccga.edu
SUMMARY:Bookstore Credit Available
DESCRIPTION:
URL:https://www.ccga.edu/calendar/bookstore-credit-available-6/
CATEGORIES:Academics
END:VEVENT
BEGIN:VEVENT
DTSTART;TZID=UTC:20240817T080000
DTEND;TZID=UTC:20240817T150000
DTSTAMP:20260423T182633
CREATED:20231012T000708Z
LAST-MODIFIED:20240821T160556Z
UID:10000727-1723881600-1723906800@www.ccga.edu
SUMMARY:Housing Move-In Day 2 (Freshmen and Returning Students)
DESCRIPTION:
URL:https://www.ccga.edu/calendar/housing-move-in-day-2-freshmen-and-returning-students/
CATEGORIES:Admissions
END:VEVENT
END:VCALENDAR