BEGIN:VCALENDAR
VERSION:2.0
PRODID:-//College of Coastal Georgia - ECPv6.15.20//NONSGML v1.0//EN
CALSCALE:GREGORIAN
METHOD:PUBLISH
X-ORIGINAL-URL:https://www.ccga.edu
X-WR-CALDESC:Events for College of Coastal Georgia
REFRESH-INTERVAL;VALUE=DURATION:PT1H
X-Robots-Tag:noindex
X-PUBLISHED-TTL:PT1H
BEGIN:VTIMEZONE
TZID:UTC
BEGIN:STANDARD
TZOFFSETFROM:+0000
TZOFFSETTO:+0000
TZNAME:UTC
DTSTART:20230101T000000
END:STANDARD
END:VTIMEZONE
BEGIN:VEVENT
DTSTART;VALUE=DATE:20240524
DTEND;VALUE=DATE:20240525
DTSTAMP:20260422T195508
CREATED:20240130T004156Z
LAST-MODIFIED:20240523T221634Z
UID:10000870-1716508800-1716595199@www.ccga.edu
SUMMARY:College of Coastal Georgia Men's Golf vs NAIA - Round 4 - Dalton Country Club
DESCRIPTION:College of Coastal Georgia Men’s Golf vs NAIA – Round 4 – Dalton Count
URL:https://www.ccga.edu/calendar/college-of-coastal-georgia-mens-golf-vs-naia-round-4-dalton-country-club/
CATEGORIES:Athletics
END:VEVENT
END:VCALENDAR