BEGIN:VCALENDAR
VERSION:2.0
PRODID:-//College of Coastal Georgia - ECPv6.15.20//NONSGML v1.0//EN
CALSCALE:GREGORIAN
METHOD:PUBLISH
X-WR-CALNAME:College of Coastal Georgia
X-ORIGINAL-URL:https://www.ccga.edu
X-WR-CALDESC:Events for College of Coastal Georgia
REFRESH-INTERVAL;VALUE=DURATION:PT1H
X-Robots-Tag:noindex
X-PUBLISHED-TTL:PT1H
BEGIN:VTIMEZONE
TZID:UTC
BEGIN:STANDARD
TZOFFSETFROM:+0000
TZOFFSETTO:+0000
TZNAME:UTC
DTSTART:20230101T000000
END:STANDARD
END:VTIMEZONE
BEGIN:VEVENT
DTSTART;VALUE=DATE:20240523
DTEND;VALUE=DATE:20240524
DTSTAMP:20260423T010608
CREATED:20240130T004154Z
LAST-MODIFIED:20240522T231318Z
UID:10000869-1716422400-1716508799@www.ccga.edu
SUMMARY:College of Coastal Georgia Men's Golf vs NAIA - Round 3 - Dalton Country Club
DESCRIPTION:College of Coastal Georgia Men’s Golf vs NAIA – Round 3 – Dalton Count
URL:https://www.ccga.edu/calendar/college-of-coastal-georgia-mens-golf-vs-naia-round-3-dalton-country-club/
CATEGORIES:Athletics
END:VEVENT
BEGIN:VEVENT
DTSTART;TZID=UTC:20240523T130000
DTEND;TZID=UTC:20240523T160000
DTSTAMP:20260423T010608
CREATED:20231012T000706Z
LAST-MODIFIED:20240523T154945Z
UID:10000707-1716469200-1716480000@www.ccga.edu
SUMMARY:Camden Orientation
DESCRIPTION:
URL:https://www.ccga.edu/calendar/camden-orientation-2/
CATEGORIES:Admissions
END:VEVENT
BEGIN:VEVENT
DTSTART;TZID=UTC:20240523T160000
DTEND;TZID=UTC:20240523T160000
DTSTAMP:20260423T010608
CREATED:20231012T000706Z
LAST-MODIFIED:20240523T154942Z
UID:10000708-1716480000-1716480000@www.ccga.edu
SUMMARY:Camden Dual Enrollment Orientation
DESCRIPTION:
URL:https://www.ccga.edu/calendar/camden-dual-enrollment-orientation-2/
CATEGORIES:Admissions
END:VEVENT
END:VCALENDAR