BEGIN:VCALENDAR
VERSION:2.0
PRODID:-//College of Coastal Georgia - ECPv6.15.20//NONSGML v1.0//EN
CALSCALE:GREGORIAN
METHOD:PUBLISH
X-ORIGINAL-URL:https://www.ccga.edu
X-WR-CALDESC:Events for College of Coastal Georgia
REFRESH-INTERVAL;VALUE=DURATION:PT1H
X-Robots-Tag:noindex
X-PUBLISHED-TTL:PT1H
BEGIN:VTIMEZONE
TZID:UTC
BEGIN:STANDARD
TZOFFSETFROM:+0000
TZOFFSETTO:+0000
TZNAME:UTC
DTSTART:20230101T000000
END:STANDARD
END:VTIMEZONE
BEGIN:VEVENT
DTSTART;TZID=UTC:20240424T103000
DTEND;TZID=UTC:20240424T133000
DTSTAMP:20260421T045930
CREATED:20240222T170810Z
LAST-MODIFIED:20240424T122501Z
UID:10000905-1713954600-1713965400@www.ccga.edu
SUMMARY:College of Coastal Georgia Men's Tennis vs #4 Seed Ave Maria University
DESCRIPTION:College of Coastal Georgia Men’s Tennis vs #4 Seed Ave Maria Uni
URL:https://www.ccga.edu/calendar/college-of-coastal-georgia-mens-tennis-vs-the-sun-conference-championships/
CATEGORIES:Athletics
END:VEVENT
BEGIN:VEVENT
DTSTART;TZID=UTC:20240424T143000
DTEND;TZID=UTC:20240424T173000
DTSTAMP:20260421T045930
CREATED:20240222T170812Z
LAST-MODIFIED:20240424T171005Z
UID:10000906-1713969000-1713979800@www.ccga.edu
SUMMARY:College of Coastal Georgia Women's Tennis vs #3 Seed Southeastern University
DESCRIPTION:College of Coastal Georgia Women’s Tennis vs #3 Seed Southeastern Uni
URL:https://www.ccga.edu/calendar/college-of-coastal-georgia-womens-tennis-vs-the-sun-conference-championships/
CATEGORIES:Athletics
END:VEVENT
END:VCALENDAR