BEGIN:VCALENDAR
VERSION:2.0
PRODID:-//College of Coastal Georgia - ECPv6.15.20//NONSGML v1.0//EN
CALSCALE:GREGORIAN
METHOD:PUBLISH
X-ORIGINAL-URL:https://www.ccga.edu
X-WR-CALDESC:Events for College of Coastal Georgia
REFRESH-INTERVAL;VALUE=DURATION:PT1H
X-Robots-Tag:noindex
X-PUBLISHED-TTL:PT1H
BEGIN:VTIMEZONE
TZID:UTC
BEGIN:STANDARD
TZOFFSETFROM:+0000
TZOFFSETTO:+0000
TZNAME:UTC
DTSTART:20230101T000000
END:STANDARD
END:VTIMEZONE
BEGIN:VEVENT
DTSTART;TZID=UTC:20240419T140000
DTEND;TZID=UTC:20240419T160000
DTSTAMP:20260423T215539
CREATED:20240130T004118Z
LAST-MODIFIED:20240419T150643Z
UID:10000858-1713535200-1713542400@www.ccga.edu
SUMMARY:College of Coastal Georgia Softball vs Southeastern University
DESCRIPTION:College of Coastal Georgia Softball vs Southeastern Uni
URL:https://www.ccga.edu/calendar/college-of-coastal-georgia-softball-vs-southeastern-university/
CATEGORIES:Athletics
END:VEVENT
BEGIN:VEVENT
DTSTART;TZID=UTC:20240419T160000
DTEND;TZID=UTC:20240419T180000
DTSTAMP:20260423T215539
CREATED:20240221T191838Z
LAST-MODIFIED:20240419T173552Z
UID:10000896-1713542400-1713549600@www.ccga.edu
SUMMARY:College of Coastal Georgia Softball vs Southeastern University
DESCRIPTION:College of Coastal Georgia Softball vs Southeastern Uni
URL:https://www.ccga.edu/calendar/college-of-coastal-georgia-softball-vs-southeastern-university-2/
CATEGORIES:Athletics
END:VEVENT
END:VCALENDAR