BEGIN:VCALENDAR
VERSION:2.0
PRODID:-//College of Coastal Georgia - ECPv6.15.20//NONSGML v1.0//EN
CALSCALE:GREGORIAN
METHOD:PUBLISH
X-ORIGINAL-URL:https://www.ccga.edu
X-WR-CALDESC:Events for College of Coastal Georgia
REFRESH-INTERVAL;VALUE=DURATION:PT1H
X-Robots-Tag:noindex
X-PUBLISHED-TTL:PT1H
BEGIN:VTIMEZONE
TZID:UTC
BEGIN:STANDARD
TZOFFSETFROM:+0000
TZOFFSETTO:+0000
TZNAME:UTC
DTSTART:20210101T000000
END:STANDARD
END:VTIMEZONE
BEGIN:VTIMEZONE
TZID:America/Halifax
BEGIN:DAYLIGHT
TZOFFSETFROM:-0400
TZOFFSETTO:-0300
TZNAME:ADT
DTSTART:20210314T060000
END:DAYLIGHT
BEGIN:STANDARD
TZOFFSETFROM:-0300
TZOFFSETTO:-0400
TZNAME:AST
DTSTART:20211107T050000
END:STANDARD
BEGIN:DAYLIGHT
TZOFFSETFROM:-0400
TZOFFSETTO:-0300
TZNAME:ADT
DTSTART:20220313T060000
END:DAYLIGHT
BEGIN:STANDARD
TZOFFSETFROM:-0300
TZOFFSETTO:-0400
TZNAME:AST
DTSTART:20221106T050000
END:STANDARD
BEGIN:DAYLIGHT
TZOFFSETFROM:-0400
TZOFFSETTO:-0300
TZNAME:ADT
DTSTART:20230312T060000
END:DAYLIGHT
BEGIN:STANDARD
TZOFFSETFROM:-0300
TZOFFSETTO:-0400
TZNAME:AST
DTSTART:20231105T050000
END:STANDARD
END:VTIMEZONE
BEGIN:VEVENT
DTSTART;VALUE=DATE:20220927
DTEND;VALUE=DATE:20220928
DTSTAMP:20260423T215519
CREATED:20220924T002855Z
LAST-MODIFIED:20220927T234443Z
UID:10000007-1664236800-1664323199@www.ccga.edu
SUMMARY:Men's Golf @ Day 2 - Innisbrook Invite
DESCRIPTION:Men’s Golf @ Day 2 – Innisbrook Invite
URL:https://www.ccga.edu/calendar/mens-golf-day-2-innisbrook-invite/
LOCATION:Copper Head Course – Tarpon Springs\, Fla.
CATEGORIES:Athletics
END:VEVENT
BEGIN:VEVENT
DTSTART;VALUE=DATE:20220927
DTEND;VALUE=DATE:20220928
DTSTAMP:20260423T215519
CREATED:20220924T002855Z
LAST-MODIFIED:20221006T173735Z
UID:10000008-1664236800-1664323199@www.ccga.edu
SUMMARY:Women's Golf @ Day 2 - Newberry College Tournament
DESCRIPTION:Women’s Golf @ Day 2 – Newberry College Tournament
URL:https://www.ccga.edu/calendar/womens-golf-day-2-newberry-college-tournament/
LOCATION:Harbor Club – Greensboro\, Ga.
CATEGORIES:Athletics
END:VEVENT
BEGIN:VEVENT
DTSTART;TZID=UTC:20220927T110000
DTEND;TZID=UTC:20220927T130000
DTSTAMP:20260423T215519
CREATED:20220924T002855Z
LAST-MODIFIED:20220924T005228Z
UID:10000009-1664276400-1664283600@www.ccga.edu
SUMMARY:Employer Spotlight - GA Dept of Corrections
DESCRIPTION:Recruiters on campus to discuss opportunities with GA Department of Corrections
URL:https://www.ccga.edu/calendar/employer-spotlight-ga-dept-of-corrections/
LOCATION:Campus Center
CATEGORIES:Campus Events
END:VEVENT
BEGIN:VEVENT
DTSTART;TZID=UTC:20220927T170000
DTEND;TZID=UTC:20220927T180000
DTSTAMP:20260423T215519
CREATED:20220924T002855Z
LAST-MODIFIED:20220924T005126Z
UID:10000010-1664298000-1664301600@www.ccga.edu
SUMMARY:Conversational French
DESCRIPTION:Advanced French: Every Tuesday from 5 p.m. to 6 p.m. in the Brunswick Library.\nBeginning French: Every Thursday from 5 p.m. to 6 p.m. in the Brunswick Library.
URL:https://www.ccga.edu/calendar/conversational-french/
LOCATION:Brunswick Library
END:VEVENT
BEGIN:VEVENT
DTSTART;TZID=UTC:20220927T173000
DTEND;TZID=UTC:20220927T180000
DTSTAMP:20260423T215519
CREATED:20220924T002855Z
LAST-MODIFIED:20220924T005013Z
UID:10000011-1664299800-1664301600@www.ccga.edu
SUMMARY:GSA BYO tie dye event
DESCRIPTION:students and members will bring something to tie dye we will provide the actual dye. \nLearn more at https://ccga.presence.io/event/gsa-byo-tie-dye-event
URL:https://www.ccga.edu/calendar/gsa-byo-tie-dye-event/
CATEGORIES:Student Life
END:VEVENT
BEGIN:VEVENT
DTSTART;TZID=America/Halifax:20220927T180000
DTEND;TZID=America/Halifax:20220927T235900
DTSTAMP:20260423T215519
CREATED:20220924T002856Z
LAST-MODIFIED:20221006T173438Z
UID:10000012-1664301600-1664323140@www.ccga.edu
SUMMARY:Conversational Spanish
DESCRIPTION:Meets every Tuesday at 6 p.m. in the Brunswick Library. All knowledge levels are welcome.
URL:https://www.ccga.edu/calendar/conversational-spanish/
LOCATION:Brunswick Library
END:VEVENT
END:VCALENDAR